BEGIN:VCALENDAR
VERSION:2.0
PRODID:-//Maison des Sciences de l&#039;Homme Paris Nord - ECPv5.2.1.1//NONSGML v1.0//EN
CALSCALE:GREGORIAN
METHOD:PUBLISH
X-WR-CALNAME:Maison des Sciences de l&#039;Homme Paris Nord
X-ORIGINAL-URL:https://tst.mshparisnord.fr
X-WR-CALDESC:évènements pour Maison des Sciences de l&#039;Homme Paris Nord
BEGIN:VTIMEZONE
TZID:Europe/Paris
BEGIN:DAYLIGHT
TZOFFSETFROM:+0100
TZOFFSETTO:+0200
TZNAME:CEST
DTSTART:20190331T010000
END:DAYLIGHT
BEGIN:STANDARD
TZOFFSETFROM:+0200
TZOFFSETTO:+0100
TZNAME:CET
DTSTART:20191027T010000
END:STANDARD
END:VTIMEZONE
BEGIN:VEVENT
DTSTART;TZID=Europe/Paris:20190605T090000
DTEND;TZID=Europe/Paris:20190605T170000
DTSTAMP:20260421T141853
CREATED:20190510T125301Z
LAST-MODIFIED:20190516T151332Z
UID:14837-1559725200-1559754000@tst.mshparisnord.fr
SUMMARY:Journée d’étude\, Théâtre(s) et territoire(s) : des formes artistiques singulières aux prises avec des enjeux politiques contradictoires
DESCRIPTION:Journée d’étude exploratoire  organisée dans le cadre du projet de recherche « Théâtre in situ et patrimoine : la dramaturgie urbaine à l’épreuve\, de Rio à Alger » \nCette journée d’étude s’inscrit dans un projet de recherche-création entamé en 2014 au Brésil\, prolongé depuis 2017 à Saint-Denis. Conformément à nos enjeux méthodologiques qui s’exercent à entrelacer théorie et pratique\, elle ouvrira sur la présentation du spectacle issu de cette recherche-création « Montjoie ! Saint-Denis ! » et impliquera artistes\, professionnels et chercheurs. \nAxes de réflexion\n\nLes formes artistiques singulières qui émergent des rapports entre la pratique artistique et le territoire – in situ\, participation\, cocréation\, documentaire…\nL’invention de lieux porteurs d’une nouvelle urbanité – à travers l’exemple de l’Espace Imaginaire\nLes enjeux politiques et contradictoires émanant des tutelles : injonction à la démocratisation culturelle (par le bais de l’action culturelle\, de la participation\, des pratiques ancrées sur un territoire) mais non valorisation de ces pratiques\, non considérées comme « oeuvres artistiques » ; risque d’entrer dans le « marketting territorial » et de mettre la pratique artistique au service de la promotion d’un territoire.\n\nQuestions\n\nComment s’inventent des formes théâtrales en prise avec le territoire ? Que met-on dans ce mot « territoire » et comment les artistes s’en emparent-ils ? Comment créer des lieux de rencontre\, des lieux qui laissent place à une approche réinventée du territoire ?\nComment la pratique théâtrale peut-elle agir sur le contexte et comment le contexte peut-il transformer la création ?\nComment un processus de création partagé impliquant des artistes\, des étudiants et des habitants peut-il générer une dynamique de réhabilitation d’un lieu\, d’un quartier\, d’un espace public ?\nInversement\, quelle esthétique est révélée par cette inscription du théâtre dans la ville\, dans des lieux architecturaux spécifiques ? L’impact de la contrainte sur la création (dramaturgie textuelle collective basée sur l’Histoire des lieux\, dramaturgie spatiale fondatrice de la mise en scène) génère-t-elle une autre façon d’écrire\, de jouer ?\nComment inventer une économie transversale à la recherche et à la création\, qui ne soit pas détournée au service d’une économie du « marketing territorial »1 ou de l’évènementiel mais qui permette de prétendre à des financements professionnels ? Comment diffuser une oeuvre in situ sans en perdre la spécificité ? D’autre part\, comment inventer une dramaturgie urbaine\, une façon de raconter qui\, tout en réhabilitant une mémoire et un lieu\, se distingue de la « narrativité »\, fondatrice de la forme collection qu’évoquent Boltanski et Esquerre2 ?\n\nProgramme indicatif\nà la MSH Paris Nord\n9h-9h30 : accueil des participants\n9h30-10h : ouverture théorico-pratique par le collectif GONGLE\n10h-10h30 : Daniel Urrutiaguer\, Université Paris 3 Sorbonne-Nouvelle « La valorisation des actions\nartistiques territorialisées : quelles logiques d’évaluation? » (cadre théorique de l’économie des\nconventions et de la sociologie pragmatique)\n10h30-11h : Discussions \n////PAUSE\n11h30-12h00 : Clément Lavault\, programmateur du Printemps des Rues\, Fédération Nationale des Arts\nde la rue\n12h00-12h30 : Stephane Resche et François Barouch – Compagnie Les Desgrangés\n12h30-13h : Discussions \n////REPAS\n14h00-14h30 : « La co-création à Saint-Denis » : Ségolène Pruvot (Directrice culturelle\, chercheuse\,\nAlternatives Européennes)\n14h30-15h00 : Mélanie Gaillard : L’Espace Imaginaire\, un lieu autre\n15h-15h30 : discussions \n////DÉPLACEMENT\nà l’Espace Imaginaire\n16h-17h : représentation de « Montjoie ! Saint-Denis ! » par HOC MOMENTO \ninformations pratiques\n5 juin 2019\n9h 17h\nà la MSH Paris Nord\n20\, avenue George Sand\n93210 La Plaine Saint-Denis\npuis à l’Espace Imaginaire pour la représentation \nReprésentation de « Montjoie ! Saint-Denis ! » par HOC MOMENTO\nTragi-comédie onirique pour 20 acteurs et un orchestre\nà 20h\nles 1\, 2\, 8\, 9 et 22 juin 2019\nà l’Espace Imaginaire\n12 rue de la Procession\, Saint-Denis\nPrix libre \nUn projet de recherche qui bénéficie du soutien de la MSH Paris Nord dans le cadre de son appel à projets porté par Louise Roux et Frederico Nepomuceno axe 1 – Industries de la culture et arts et axe 4 – Penser la ville contemporaine
URL:https://tst.mshparisnord.fr/event/journee-detude-theatres-et-territoires-des-formes-artistiques-singulieres-aux-prises-avec-des-enjeux-politiques-contradictoires/
LOCATION:MSH Paris Nord\, 20\, avenue George Sand\, La Plaine Saint-Denis\, Métro ligne 12 : « Front populaire »\, accessible aux personnes à mobilité réduite\, 93210\, France
CATEGORIES:Manifestations scientifiques
END:VEVENT
END:VCALENDAR